BEGIN:VCALENDAR
PRODID:http://wibix.de/infusions/pro_download_panel/download.php?did=27
VERSION:2.0
METHOD:PUBLISH
BEGIN:VEVENT
DTSTART:20111214T000000Z
UID:546@http://www.radiosuperoldie.com/
DTSTAMP:20110925T145304Z
DESCRIPTION:Michael „Mike“ Krüger (* 14. Dezember 1951 in Ulm) ist ein deutscher Komiker, Kabarettist und Sänger. Seine bekanntesten Plattenerfolge sind: &quot;Mein Gott, Walther&quot;, &quot;Der Nippel&quot; und &quot;Bodo mit dem Bagger&quot;.
SUMMARY:Mike Krüger
CLASS:PUBLIC
RRULE:FREQ=YEARLY;INTERVAL=1
END:VEVENT
END:VCALENDAR
