BEGIN:VCALENDAR
PRODID:http://wibix.de/infusions/pro_download_panel/download.php?did=27
VERSION:2.0
METHOD:PUBLISH
BEGIN:VEVENT
DTSTART:20110224T000000Z
UID:44@http://www.radiosuperoldie.com/
DTSTAMP:20110131T214041Z
DESCRIPTION:Tony Holiday (* 24. Februar 1951 in Hamburg; † 14. Februar 1990 Hamburg) war ein deutscher Schlagersänger und Texter. Der Durchbruch kam 1977 mit der deutschen Aufnahme des Raffaella Carrà Titels A far l&#39;amore comincia tu, der unter dem Titel &quot;Tanze Samba mit mir&quot; produziert von Jürgen Kramer, zum Superhit wurde.
SUMMARY:Tony Holiday
CLASS:PUBLIC
RRULE:FREQ=YEARLY;INTERVAL=1
END:VEVENT
END:VCALENDAR
