BEGIN:VCALENDAR
PRODID:http://wibix.de/infusions/pro_download_panel/download.php?did=27
VERSION:2.0
METHOD:PUBLISH
BEGIN:VEVENT
DTSTART:20110612T230000Z
UID:322@http://www.radiosuperoldie.com/
DTSTAMP:20110602T150552Z
DESCRIPTION:Esther Ofarim (* 13. Juni 1941 in Safed, Galiläa) ist eine israelische Schauspielerin und Sängerin. Nach ihrer Heirat mit Abi Ofarim formte sie mit ihm das Duo &#39;Esther &amp; Abi Ofarim&#39;, mit dem sie internationale Berühmtheit erlangten. Das Lied &quot;Morning of My Life&quot;, geschrieben von den Bee Gees, wurde 1967 der größte Hit des Duos in Deutschland. 1968 erzielten die Ofarims ihren internationalen Durchbruch mit &quot;Cinderella Rockefella&quot;.
SUMMARY:Esther Ofarim
CLASS:PUBLIC
RRULE:FREQ=YEARLY;INTERVAL=1
END:VEVENT
END:VCALENDAR
