BEGIN:VCALENDAR
PRODID:http://wibix.de/infusions/pro_download_panel/download.php?did=27
VERSION:2.0
METHOD:PUBLISH
BEGIN:VEVENT
DTSTART:20110517T230000Z
UID:272@http://www.radiosuperoldie.com/
DTSTAMP:20110207T000420Z
DESCRIPTION:Perry Como (Pierino Ronald Como,  18. Mai 1912 in Canonsburg, Pennsylvania; † 12. Mai 2001 in Jupiter, Florida), war einer der berühmtesten amerikanischen Popsänger in der Mitte des 20. Jahrhunderts. 1945 begann der erfolgreiche Teil seiner Karriere als Sänger mit der Pop-Ballade &quot;Till the End of Time&quot;. Perry Como war der erste Sänger mit zehn Schallplatten, die jeweils mehr als eine Million mal verkauft wurden.
SUMMARY:Perry Como
CLASS:PUBLIC
RRULE:FREQ=YEARLY;INTERVAL=1
END:VEVENT
END:VCALENDAR
