BEGIN:VCALENDAR
PRODID:http://wibix.de/infusions/pro_download_panel/download.php?did=27
VERSION:2.0
METHOD:PUBLISH
BEGIN:VEVENT
DTSTART:20110415T230000Z
UID:220@http://www.radiosuperoldie.com/
DTSTAMP:20110205T120205Z
DESCRIPTION:Gerald „Gerry“ Rafferty (* 16. April 1947 in Paisley, Schottland; † 4. Januar 2011 in Poole, England) war ein schottischer Folk-Rock-Singer-Songwriter. Seine Komposition &quot;Baker Street&quot; (1978) machte ihn weltbekannt und vermögend, da dieses Lied bis heute häufig von Radiosendern gespielt wird.
SUMMARY:Gerry Rafferty
CLASS:PUBLIC
RRULE:FREQ=YEARLY;INTERVAL=1
END:VEVENT
END:VCALENDAR
