BEGIN:VCALENDAR
PRODID:http://wibix.de/infusions/pro_download_panel/download.php?did=27
VERSION:2.0
METHOD:PUBLISH
BEGIN:VEVENT
DTSTART:20110423T230000Z
UID:206@http://www.radiosuperoldie.com/
DTSTAMP:20110202T232910Z
DESCRIPTION:Barbra Streisand (* 24. April 1942 in Brooklyn, New York) ist eine amerikanische Musikerin und Filmschaffende. Streisand, die als Musicalschauspielerin begann, ist eine der kommerziell und künstlerisch erfolgreichsten Sängerinnen in der Geschichte moderner Unterhaltungsindustrie. Seit ihrem Durchbruch mit der Hauptrolle in dem Film &#39;Funny Girl&#39; (1968) wird Streisand auch zu den Stars des neuen Hollywood gezählt.
SUMMARY:Barbra Streisand
CLASS:PUBLIC
RRULE:FREQ=YEARLY;INTERVAL=1
END:VEVENT
END:VCALENDAR
