BEGIN:VCALENDAR
PRODID:http://wibix.de/infusions/pro_download_panel/download.php?did=27
VERSION:2.0
METHOD:PUBLISH
BEGIN:VEVENT
DTSTART:20110119T000000Z
UID:190@http://www.radiosuperoldie.com/
DTSTAMP:20110202T000551Z
DESCRIPTION:Klaus-Dieter Henkler (* 19. Januar 1944 in Seebenau) ist ein deutscher Sänger, Komponist und Textautor. Henkler bildet zusammen mit Monika Hauff das populäre Berliner Gesangs- und Moderatorenduo Hauff und Henkler.
SUMMARY:Klaus-Dieter Henkler
CLASS:PUBLIC
RRULE:FREQ=YEARLY;INTERVAL=1
END:VEVENT
END:VCALENDAR
